BEGIN:VCALENDAR
VERSION:2.0
PRODID:-//eventon.com NONSGML v1.0//EN
BEGIN:VEVENT
UID:69e4d2c01bf1c
DTSTAMP:20260419T090400
DTSTART:20260417T230000Z
DTEND:20260418T000000Z
LOCATION:Living Word Church 147 Pruitt Ln
SUMMARY:Third Friday Service
DESCRIPTION: Living Word Church has a service every third Friday of the month at 7:00pm. “Third Friday\, ” is a dynamic service that encourages and uplifts through song and prayer. From 7pm to 8pm – one hour of music and worship as we join our hearts and voices together to praise God[..]
END:VEVENT
END:VCALENDAR