BEGIN:VCALENDAR
VERSION:2.0
PRODID:-//eventon.com NONSGML v1.0//EN
BEGIN:VEVENT
UID:69e9e32ebe2f3
DTSTAMP:20260423T051526
DTSTART:20260413T140000Z
DTEND:20260413T150000Z
LOCATION:Living Word Church 147 Pruitt Ln
SUMMARY:The "Reinforcements" Weekly Prayer Group
DESCRIPTION: Every Tuesday from 10 am to 11 am\,  there is a time of prayer and fellowship. Lifting up Living Word Church and God’s unfolding purpose for the people whose lives are being touched by and through the ministry is the primary focus during this time of intercession. The group is open[..]
END:VEVENT
END:VCALENDAR